BEGIN:VCALENDAR
VERSION:2.0
PRODID:-//The United Wards Club of the City of London - ECPv6.2.6.1//NONSGML v1.0//EN
CALSCALE:GREGORIAN
METHOD:PUBLISH
X-ORIGINAL-URL:https://unitedwardsclub.org.uk
X-WR-CALDESC:Events for The United Wards Club of the City of London
REFRESH-INTERVAL;VALUE=DURATION:PT1H
X-Robots-Tag:noindex
X-PUBLISHED-TTL:PT1H
BEGIN:VTIMEZONE
TZID:UTC
BEGIN:STANDARD
TZOFFSETFROM:+0000
TZOFFSETTO:+0000
TZNAME:UTC
DTSTART:20220101T000000
END:STANDARD
END:VTIMEZONE
BEGIN:VEVENT
DTSTART;VALUE=DATE:20220202
DTEND;VALUE=DATE:20220212
DTSTAMP:20260421T135747
CREATED:20230103T132300Z
LAST-MODIFIED:20230612T124759Z
UID:1139-1643842800-1644620399@unitedwardsclub.org.uk
SUMMARY:Civic Luncheon
DESCRIPTION:Thursday 3 February 2022 at Farmers & Fletchers Hall \nThe President is honoured and delighted that the Club’s Patron\, The Rt Hon The Lord Mayor\, Alderman Vincent Keaveny has accepted an invitation to luncheon. He will be accompanied by the Lady Mayoress\, and by Sheriff and Alderman Nicholas Lyons and Mrs Felicity Lyons. \nMembers are asked to gather at Farmers & Fletchers Hall\, 3 Cloth Street\, London EC1A 7LD\, at 12:15 pm\, for luncheon at 1:00 pm. This is a particularly appropriate venue\, since the Lady Mayoress is a Liveryman of the Fletchers. Dress will be morning suit or dark lounge suit for gentlemen and equivalent for ladies. This is an occasion when\, as well as members of this Club and their guests\, we welcome members of the City’s Ward Clubs and we hope that many Clubs will be represented. The ticket price will be £110. Please book your party as soon as possible and certainly no later than Monday 24 January.
URL:https://unitedwardsclub.org.uk/event/civic-luncheon-2/
CATEGORIES:Event
ATTACH;FMTTYPE=image/jpeg:https://unitedwardsclub.org.uk/wp-content/uploads/2021/12/Screenshot-17-12-2021-BgkcSTSj@2x.jpg
ORGANIZER;CN="United Wards Club":MAILTO:admin@unitedwardsclub.org.uk
END:VEVENT
END:VCALENDAR