BEGIN:VCALENDAR
VERSION:2.0
PRODID:-//The United Wards Club of the City of London - ECPv6.2.6.1//NONSGML v1.0//EN
CALSCALE:GREGORIAN
METHOD:PUBLISH
X-ORIGINAL-URL:https://unitedwardsclub.org.uk
X-WR-CALDESC:Events for The United Wards Club of the City of London
REFRESH-INTERVAL;VALUE=DURATION:PT1H
X-Robots-Tag:noindex
X-PUBLISHED-TTL:PT1H
BEGIN:VTIMEZONE
TZID:UTC
BEGIN:STANDARD
TZOFFSETFROM:+0000
TZOFFSETTO:+0000
TZNAME:UTC
DTSTART:20220101T000000
END:STANDARD
END:VTIMEZONE
BEGIN:VEVENT
DTSTART;VALUE=DATE:20220824
DTEND;VALUE=DATE:20220826
DTSTAMP:20260421T020611
CREATED:20230103T131746Z
LAST-MODIFIED:20230612T124759Z
UID:1127-1661378400-1661464799@unitedwardsclub.org.uk
SUMMARY:A United Wards Club Heritage City Walk
DESCRIPTION:A walk to explore the club’s early history.  \nWaiting list – please contact the Secretary as this walk is now fully subscribed
URL:https://unitedwardsclub.org.uk/event/a-united-wards-club-heritage-city-walk/
CATEGORIES:Event
ATTACH;FMTTYPE=image/png:https://unitedwardsclub.org.uk/wp-content/uploads/2022/07/Cannon-Street-Hotel.png
ORGANIZER;CN="United Wards Club":MAILTO:admin@unitedwardsclub.org.uk
END:VEVENT
END:VCALENDAR