BEGIN:VCALENDAR
VERSION:2.0
PRODID:-//The United Wards Club of the City of London - ECPv6.2.6.1//NONSGML v1.0//EN
CALSCALE:GREGORIAN
METHOD:PUBLISH
X-ORIGINAL-URL:https://unitedwardsclub.org.uk
X-WR-CALDESC:Events for The United Wards Club of the City of London
REFRESH-INTERVAL;VALUE=DURATION:PT1H
X-Robots-Tag:noindex
X-PUBLISHED-TTL:PT1H
BEGIN:VTIMEZONE
TZID:UTC
BEGIN:STANDARD
TZOFFSETFROM:+0000
TZOFFSETTO:+0000
TZNAME:UTC
DTSTART:20220101T000000
END:STANDARD
END:VTIMEZONE
BEGIN:VEVENT
DTSTART;VALUE=DATE:20221111
DTEND;VALUE=DATE:20221113
DTSTAMP:20260420T204859
CREATED:20230103T131959Z
LAST-MODIFIED:20230612T124758Z
UID:1133-1668207600-1668293999@unitedwardsclub.org.uk
SUMMARY:Lord Mayor’s Show
DESCRIPTION:
URL:https://unitedwardsclub.org.uk/event/lord-mayors-show/
CATEGORIES:Event
ATTACH;FMTTYPE=image/jpeg:https://unitedwardsclub.org.uk/wp-content/uploads/2022/04/lord-mayors-show_the-lord-mayors.jpeg
ORGANIZER;CN="United Wards Club":MAILTO:admin@unitedwardsclub.org.uk
END:VEVENT
END:VCALENDAR