BEGIN:VCALENDAR
VERSION:2.0
PRODID:-//The United Wards Club of the City of London - ECPv6.2.6.1//NONSGML v1.0//EN
CALSCALE:GREGORIAN
METHOD:PUBLISH
X-ORIGINAL-URL:https://unitedwardsclub.org.uk
X-WR-CALDESC:Events for The United Wards Club of the City of London
REFRESH-INTERVAL;VALUE=DURATION:PT1H
X-Robots-Tag:noindex
X-PUBLISHED-TTL:PT1H
BEGIN:VTIMEZONE
TZID:UTC
BEGIN:STANDARD
TZOFFSETFROM:+0000
TZOFFSETTO:+0000
TZNAME:UTC
DTSTART:20230101T000000
END:STANDARD
END:VTIMEZONE
BEGIN:VEVENT
DTSTART;TZID=UTC:20230329T180000
DTEND;TZID=UTC:20230329T210000
DTSTAMP:20260420T124358
CREATED:20230102T135532Z
LAST-MODIFIED:20230612T124758Z
UID:1060-1680112800-1680123600@unitedwardsclub.org.uk
SUMMARY:AGM & Installation Dinner
DESCRIPTION:Wednesday 29 March at Bakers’ Hall = AGM 6:00 pm Dinner 7:00 for 7:30
URL:https://unitedwardsclub.org.uk/event/agm-installation-dinner/
CATEGORIES:Event
ATTACH;FMTTYPE=image/jpeg:https://unitedwardsclub.org.uk/wp-content/uploads/2022/05/Me-at-Installation-2022.jpg
ORGANIZER;CN="United Wards Club":MAILTO:admin@unitedwardsclub.org.uk
END:VEVENT
END:VCALENDAR