BEGIN:VCALENDAR
VERSION:2.0
PRODID:-//The United Wards Club of the City of London - ECPv6.2.6.1//NONSGML v1.0//EN
CALSCALE:GREGORIAN
METHOD:PUBLISH
X-WR-CALNAME:The United Wards Club of the City of London
X-ORIGINAL-URL:https://unitedwardsclub.org.uk
X-WR-CALDESC:Events for The United Wards Club of the City of London
REFRESH-INTERVAL;VALUE=DURATION:PT1H
X-Robots-Tag:noindex
X-PUBLISHED-TTL:PT1H
BEGIN:VTIMEZONE
TZID:UTC
BEGIN:STANDARD
TZOFFSETFROM:+0000
TZOFFSETTO:+0000
TZNAME:UTC
DTSTART:20260101T000000
END:STANDARD
END:VTIMEZONE
BEGIN:VEVENT
DTSTART;TZID=UTC:20260510T113000
DTEND;TZID=UTC:20260510T133000
DTSTAMP:20260424T061153
CREATED:20260223T193153Z
LAST-MODIFIED:20260415T100138Z
UID:6577-1778412600-1778419800@unitedwardsclub.org.uk
SUMMARY:Sunday lunch on the River Thames - Sunday 10th May 2026
DESCRIPTION:Join us for Sunday lunch on the River Thames! \n \nOur cruise ship\, the Millennium Diamond will leave Tower Pier at 11.45 am (boarding from 11.30am). \nTransport Links: Short walk to Tower Hill (District/Circle lines)\, Tower Gateway (DLR)\, and Fenchurch Street station. \nYou will enjoy a two course lunch whilst cruising past all the famous sights of the City accompanied by live commentary –At last we can find out what they tell the tourists about our City! \n \nThe cruise will last 1 hour 45 minutes and return to the pier at 1.30pm. \nThe cost of the event is £70 per person and bookings will close on 6th April as we need to confirm numbers to the cruise company by the end of that week. This event is open to members and guests. \nDress code: Casual \nMenu \nMain – Roasted Supreme of Chicken – Thyme\, Rosemary and Lemon Chicken with a Creamy Leek\, Tarragon and Mushroom Sauce served with Lyonnaise Potatoes and Seasonal Vegetables \nDessert – Baked rose water and strawberry cheesecake (V) (V) Served with a berry coulis. \nA cash bar is available throughout the cruise \nPlease note substitutions can be made for dietary requirements and allergens but not for food preferences \nAccessibility: The company asks that they are informed of anyone with accessibility needs at the time of booking so that front of house staff can be ready to assist you with boarding.
URL:https://unitedwardsclub.org.uk/event/sunday-lunch-on-the-river-thames-sunday-10th-may-2026/
LOCATION:Tower Pier\, Lower Thames Street\, London\, EC3N 4DT\, United Kingdom
CATEGORIES:Event
ATTACH;FMTTYPE=image/jpeg:https://unitedwardsclub.org.uk/wp-content/uploads/2026/02/images.jpg
END:VEVENT
END:VCALENDAR