BEGIN:VCALENDAR
VERSION:2.0
PRODID:-//The United Wards Club of the City of London - ECPv6.2.6.1//NONSGML v1.0//EN
CALSCALE:GREGORIAN
METHOD:PUBLISH
X-WR-CALNAME:The United Wards Club of the City of London
X-ORIGINAL-URL:https://unitedwardsclub.org.uk
X-WR-CALDESC:Events for The United Wards Club of the City of London
REFRESH-INTERVAL;VALUE=DURATION:PT1H
X-Robots-Tag:noindex
X-PUBLISHED-TTL:PT1H
BEGIN:VTIMEZONE
TZID:UTC
BEGIN:STANDARD
TZOFFSETFROM:+0000
TZOFFSETTO:+0000
TZNAME:UTC
DTSTART:20220101T000000
END:STANDARD
END:VTIMEZONE
BEGIN:VEVENT
DTSTART;VALUE=DATE:20220625
DTEND;VALUE=DATE:20220627
DTSTAMP:20260421T034216
CREATED:20230103T132140Z
LAST-MODIFIED:20230612T124759Z
UID:1137-1656194400-1656280799@unitedwardsclub.org.uk
SUMMARY:Polo Day at Ham Polo Club
DESCRIPTION:Bookings for this event have now closed
URL:https://unitedwardsclub.org.uk/event/polo-day-at-ham-polo-club/
CATEGORIES:Event
ATTACH;FMTTYPE=image/jpeg:https://unitedwardsclub.org.uk/wp-content/uploads/2022/04/48787775037_6471d5ca85_z.jpg
ORGANIZER;CN="United Wards Club":MAILTO:admin@unitedwardsclub.org.uk
END:VEVENT
END:VCALENDAR