BEGIN:VCALENDAR
VERSION:2.0
PRODID:-//The United Wards Club of the City of London - ECPv6.2.6.1//NONSGML v1.0//EN
CALSCALE:GREGORIAN
METHOD:PUBLISH
X-WR-CALNAME:The United Wards Club of the City of London
X-ORIGINAL-URL:https://unitedwardsclub.org.uk
X-WR-CALDESC:Events for The United Wards Club of the City of London
REFRESH-INTERVAL;VALUE=DURATION:PT1H
X-Robots-Tag:noindex
X-PUBLISHED-TTL:PT1H
BEGIN:VTIMEZONE
TZID:UTC
BEGIN:STANDARD
TZOFFSETFROM:+0000
TZOFFSETTO:+0000
TZNAME:UTC
DTSTART:20230101T000000
END:STANDARD
END:VTIMEZONE
BEGIN:VEVENT
DTSTART;TZID=UTC:20230111T173000
DTEND;TZID=UTC:20230111T193000
DTSTAMP:20260420T153032
CREATED:20230103T122026Z
LAST-MODIFIED:20230612T124758Z
UID:1103-1673458200-1673465400@unitedwardsclub.org.uk
SUMMARY:Treasures of the Tower
DESCRIPTION:Talk by Garry Wykes on Zoom \n6:30 pm Wednesday 11 January 2023 \nCost £5 per person which will be donated to St Joseph’s Hospice in Hackney
URL:https://unitedwardsclub.org.uk/event/treasures-of-the-tower/
CATEGORIES:Event
ATTACH;FMTTYPE=image/jpeg:https://unitedwardsclub.org.uk/wp-content/uploads/2022/10/Saint_Edwards_Crown.jpg
ORGANIZER;CN="United Wards Club":MAILTO:admin@unitedwardsclub.org.uk
END:VEVENT
END:VCALENDAR